BEGIN:VCALENDAR
VERSION:2.0
PRODID:-//PADEN FORMATION - ECPv6.15.20//NONSGML v1.0//EN
CALSCALE:GREGORIAN
METHOD:PUBLISH
X-ORIGINAL-URL:https://padenformation.fr
X-WR-CALDESC:Évènements pour PADEN FORMATION
REFRESH-INTERVAL;VALUE=DURATION:PT1H
X-Robots-Tag:noindex
X-PUBLISHED-TTL:PT1H
BEGIN:VTIMEZONE
TZID:Europe/Paris
BEGIN:DAYLIGHT
TZOFFSETFROM:+0100
TZOFFSETTO:+0200
TZNAME:CEST
DTSTART:20250330T010000
END:DAYLIGHT
BEGIN:STANDARD
TZOFFSETFROM:+0200
TZOFFSETTO:+0100
TZNAME:CET
DTSTART:20251026T010000
END:STANDARD
BEGIN:DAYLIGHT
TZOFFSETFROM:+0100
TZOFFSETTO:+0200
TZNAME:CEST
DTSTART:20260329T010000
END:DAYLIGHT
BEGIN:STANDARD
TZOFFSETFROM:+0200
TZOFFSETTO:+0100
TZNAME:CET
DTSTART:20261025T010000
END:STANDARD
BEGIN:DAYLIGHT
TZOFFSETFROM:+0100
TZOFFSETTO:+0200
TZNAME:CEST
DTSTART:20270328T010000
END:DAYLIGHT
BEGIN:STANDARD
TZOFFSETFROM:+0200
TZOFFSETTO:+0100
TZNAME:CET
DTSTART:20271031T010000
END:STANDARD
END:VTIMEZONE
BEGIN:VEVENT
DTSTART;TZID=Europe/Paris:20260302T133000
DTEND;TZID=Europe/Paris:20260302T153000
DTSTAMP:20260425T234034
CREATED:20260212T170614Z
LAST-MODIFIED:20260212T171823Z
UID:338382-1772458200-1772465400@padenformation.fr
SUMMARY:After Dej' Réseau Business
DESCRIPTION:After Dej' Réseau Business le 2 mars à Sainte-Foy les Lyon\n			\n			\n				\n				\n				\n				\n			\n				\n				\n				\n				\n				\n				\n				Inscription\n			\n			\n				\n				\n				\n				\n			\n				\n				\n			\n				\n				\n				\n				\n				\n				\n				\n				\n				\n				\n				\n				\n				\n				\n				\n				\n				\n				\n					\n					\n						\n						After Déj Réseau Business est une rencontre professionnelle conviviale organisée après le déjeuner\, pensée pour permettre aux entrepreneurs\, indépendants et professionnels de développer leur réseau dans un cadre détendu\, humain et efficace.Ce format favorise des échanges naturels et en gardant un objectif business clair : créer des connexions utiles\, partager ses besoins\, identifier des opportunités et avancer concrètement dans le développement de son activité.Dans l’esprit PADEN Formation\, l’After Déj Réseau Business allie convivialité\, qualité des échanges et efficacité professionnelle. \n					\n				\n			\n			\n				\n				\n				\n				\n				\n				\n				\n				\n				\n				\n					b\n					\n						\n						Programme : \n\nAccueil convivial autour de boissons chaudes\nPrésentations des participants sous la fome d'un pitch BIM\nJeu de connexions professionnelles\nNetworking libre\n\n					\n				\n			\n			\n				\n				\n				\n				\n				\n				\n				\n				\n				\n				\n					\n					\n						\n						Cet After Déj' Réseau Business est au tarif de 15 euros et comprend : \n\n\nAccès à la rencontre réseau After Déj Réseau Business \n\n\nAnimation et facilitation des échanges par PADEN Formation \n\n\nBoissons chaudes : café\, thé\, infusions \n\n\nDouceurs sucrées selon la saison et l’inspiration du moment \n\n\nAccès au réseau des participants \n\n\nMise en relation facilitée après l’événement \n\n\n					\n				\n			\n			\n				\n				\n				\n				\n			\n				\n				\n				\n				\n				\n				\n				Inscription
URL:https://padenformation.fr/evenement/after-dej-reseau-business/
LOCATION:Sainte-Foy les Lyon\, France
CATEGORIES:Apéro Business
ATTACH;FMTTYPE=image/png:https://padenformation.fr/wp-content/uploads/2026/02/After-Dej-Reseau-Business.png
END:VEVENT
BEGIN:VEVENT
DTSTART;TZID=Europe/Paris:20260316T090000
DTEND;TZID=Europe/Paris:20260316T170000
DTSTAMP:20260425T234035
CREATED:20260216T152955Z
LAST-MODIFIED:20260216T154527Z
UID:338390-1773651600-1773680400@padenformation.fr
SUMMARY:Structurer sa prospection afin de développer son activité
DESCRIPTION:Structurer sa prospection afin de développer son activité\n			\n			\n				\n				\n				\n				\n			\n				\n				\n				\n				\n				\n				\n				Inscription\n			\n			\n				\n				\n				\n				\n			\n				\n				\n			\n				\n				\n				\n				\n				\n				\n				\n				\n				\n				\n				\n				\n				\n				\n				\n				\n				\n				\n					\n					\n						\n						Développer son activité nécessite aujourd’hui une prospection structurée\, régulière et adaptée aux nouveaux outils professionnels. Cette formation d’une journée permet d’acquérir une méthode claire pour identifier ses prospects\, structurer son offre et mettre en place des actions commerciales efficaces tout en restant naturel dans sa démarche.Formation 100 % pratico-pratique : chaque participant travaille sur sa propre activité\, ses offres et ses prospects réels. LinkedIn\, Waalaxy\, Facebook\, Google Business et la newsletter sont utilisés concrètement pour développer la visibilité et générer des opportunités.À l’issue de la journée\, les participants repartent avec une stratégie claire et un plan d’action prospection afin de développer durablement leur activité. \n					\n				\n			\n			\n				\n				\n				\n				\n				\n				\n				\n				\n				\n				\n					b\n					\n						\n						PROGRAMME :\nAnalyser sa prospection actuelle :\nAuto-diagnostic prospectionIdentification des axes d’amélioration prioritaires \nStructurer son offre et son positionnement :\nClarifier sa cible et sa promesse de valeurConstruire une offre claire et différenciante \nProspecter sur LinkedIn :\nRechercher et qualifier des prospectsOrganiser le suivi et les échanges professionnels \nAutomatiser sa prospection avec Waalaxy :\nCréer une campagne simpleMettre en place une séquence de messages \nDévelopper sa visibilité professionnelle :\nCréer du contenu professionnel sur FacebookOptimiser sa présence sur Google Business \nCréer une newsletter professionnelle :\nMaintenir le lien avec ses prospects et clientsGénérer des opportunités commerciales \nConstruire son plan d’action prospection :\nPrioriser ses actionsOrganiser sa prospection dans la durée \n					\n				\n			\n			\n				\n				\n				\n				\n				\n				\n				\n				\n				\n				\n					\n					\n						\n						Cette journée Formation est au prix de 300 euros et comprend :✔ Journée complète de formation (7 heures)✔ Supports pédagogiques et matrices de travail✔ Auto-diagnostic prospection expert✔ Modèles de messages LinkedIn✔ Trames de newsletter✔ Outils de structuration de la prospection✔ Plan d’action prospection✔ Conseils personnalisés pendant la formation✔ Pauses café et Repas buffet offert (moment réseau et échanges professionnels) \n					\n				\n			\n			\n				\n				\n				\n				\n			\n				\n				\n				\n				\n				\n				\n				Inscription
URL:https://padenformation.fr/evenement/structurer-sa-prospection-afin-de-developper-son-activite/
LOCATION:Sainte-Foy les Lyon\, France
CATEGORIES:Apéro Business
ATTACH;FMTTYPE=image/png:https://padenformation.fr/wp-content/uploads/2026/02/Structurer-sa-prospection-afin-de-developper-son-activite.png
END:VEVENT
BEGIN:VEVENT
DTSTART;TZID=Europe/Paris:20260316T190000
DTEND;TZID=Europe/Paris:20260316T230000
DTSTAMP:20260425T234035
CREATED:20260113T144727Z
LAST-MODIFIED:20260217T092408Z
UID:338288-1773687600-1773702000@padenformation.fr
SUMMARY:Apéro Réseau Business - Saucisson chaud & Dégustation de vin rouge
DESCRIPTION:Apéro Réseau Business - Saucisson chaud & Dégustation de vin rouge à sainte-Foy les Lyon\n			\n			\n				\n				\n				\n				\n			\n				\n				\n				\n				\n				\n				\n				Inscription\n			\n			\n				\n				\n				\n				\n			\n				\n				\n			\n				\n				\n				\n				\n				\n				\n				\n				\n				\n				\n				\n				\n				\n				\n				\n				\n				\n				\n					\n					\n						\n						L’Apéro Réseau Business du lundi 16 mars vous invite à un moment convivial et gourmand chez PADEN !Une soirée idéale pour rencontrer d’autres entrepreneurs\, échanger autour de vos projets et développer votre réseau professionnel dans une ambiance chaleureuse et détendue\, autour d’un buffet de saucisson pistaché\, de potatoes et d’une dégustation de vin rouge\, ponctuée d’un jeu de connexions pour faciliter les échanges. \n					\n				\n			\n			\n				\n				\n				\n				\n				\n				\n				\n				\n				\n				\n					b\n					\n						\n						Programme de la soirée : \n\nAccueil convivialArrivée des participants et premiers échanges.\nJeu des ConnexionsActivité ludique pour faciliter les rencontres.\nNetworkingÉchanges professionnels et partages de projets.\nDégustation de vin rougeMoment convivial autour d’une sélection de vins.\nBuffet gourmandSaucisson pistaché & potatoes à partager.\n\n					\n				\n			\n			\n				\n				\n				\n				\n				\n				\n				\n				\n				\n				\n					\n					\n						\n						L'Apéro Réseau Business est au tarif de 30 euros et comprend : \n\n\n\n\nLa participation à l’Apéro Réseau Business \n\n\nL’animation du Jeu des Connexions \n\n\nLes temps de networking entre participants \n\n\nLa dégustation de vin rouge \n\n\nLe buffet gourmand : saucisson pistaché & potatoes \n\n\nL’accueil et l’organisation \n\n\n\n\n					\n				\n			\n			\n				\n				\n				\n				\n			\n				\n				\n				\n				\n				\n				\n				Inscription
URL:https://padenformation.fr/evenement/apero-reseau-business-saucisson-chaud-degustation-de-vin-rouge/
LOCATION:Sainte-Foy les Lyon\, France
CATEGORIES:Apéro Business
ATTACH;FMTTYPE=image/png:https://padenformation.fr/wp-content/uploads/2026/01/Apero-Reseau-Business-le-16-mars-a-Sainte-Foy-les-Lyon.png
END:VEVENT
BEGIN:VEVENT
DTSTART;TZID=Europe/Paris:20260323T083000
DTEND;TZID=Europe/Paris:20260323T103000
DTSTAMP:20260425T234035
CREATED:20260316T105119Z
LAST-MODIFIED:20260316T105700Z
UID:338407-1774254600-1774261800@padenformation.fr
SUMMARY:Café Réseau Business à Sainte-Foy les Lyon
DESCRIPTION:Café Réseau Business à Sainte-Foy les Lyon le 23 mars 2026\n			\n			\n				\n				\n				\n				\n			\n				\n				\n				\n				\n				\n				\n				Inscription\n			\n			\n				\n				\n				\n				\n			\n				\n				\n			\n				\n				\n				\n				\n				\n				\n				\n				\n				\n				\n				\n				\n				\n				\n				\n				\n				\n				\n					\n					\n						\n						Participez au Café Réseau Business à Sainte-Foy-lès-Lyon chez PADEN. Un moment convivial pour développer votre réseau professionnel\, échanger entre entrepreneurs\, partager vos expériences et créer de nouvelles opportunités dans un cadre chaleureux et bienveillant. \n					\n				\n			\n			\n				\n				\n				\n				\n				\n				\n				\n				\n				\n				\n					b\n					\n						\n						Programme Café Réseau Business : \n8h30 – Accueil des participantsAccueil convivial autour d’un café et de petites gourmandises. \n9h00 – Présentation Pitch BIMChaque participant se présente brièvement afin de faire découvrir son activité\, ses besoins et ses offres. \n10h00 – Networking libre entre participantsÉchanges\, création de contacts et opportunités business. \n					\n				\n			\n			\n				\n				\n				\n				\n				\n				\n				\n				\n				\n				\n					\n					\n						\n						La matinée Café Réseau Business est au tarif de 15 €. Ce prix comprend : \n\n\nLe café et ses gourmandises \n\n\nLes temps de networking et de mise en relation \n\n\nUne ambiance conviviale et bienveillante \n\n\n					\n				\n			\n			\n				\n				\n				\n				\n			\n				\n				\n				\n				\n				\n				\n				Inscription
URL:https://padenformation.fr/evenement/cafe-reseau-business-a-sainte-foy-les-lyon-4/
LOCATION:Sainte-Foy les Lyon\, France
CATEGORIES:Apéro Business
ATTACH;FMTTYPE=image/png:https://padenformation.fr/wp-content/uploads/2026/03/Cafe-Reseau-Business-a-Sainte-Foy-les-Lyon.png
END:VEVENT
BEGIN:VEVENT
DTSTART;TZID=Europe/Paris:20260324T083000
DTEND;TZID=Europe/Paris:20260324T123000
DTSTAMP:20260425T234035
CREATED:20260316T110924Z
LAST-MODIFIED:20260316T112317Z
UID:338414-1774341000-1774355400@padenformation.fr
SUMMARY:Développer une prospection régulière et efficace
DESCRIPTION:Développer une prospection régulière et efficace le 24 mars 2026\n			\n			\n				\n				\n				\n				\n			\n				\n				\n				\n				\n				\n				\n				Inscription\n			\n			\n				\n				\n				\n				\n			\n				\n				\n			\n				\n				\n				\n				\n				\n				\n				\n				\n				\n				\n				\n				\n				\n				\n				\n				\n				\n				\n					\n					\n						\n						Une matinée d'ateliers pratiques pour entrepreneurs et indépendants\, conçus pour vous donner les clés afin de développer votre prospection\, structurer votre communication et créer de nouvelles opportunités business.À l’issue de cette matinée\, vous repartirez avec des outils concrets\, des stratégies directement applicables et un réseau professionnel élargi\, prêts à faire progresser votre activité dès le lendemain. \n					\n				\n			\n			\n				\n				\n				\n				\n				\n				\n				\n				\n				\n				\n					b\n					\n						\n						Programme :8h30 – 9h00 | Accueil convivialCafé\, thé et gourmandises pour bien commencer la matinée.9h00 – 9h45 | Atelier 1Identifier ses opportunités de prospection9h45 – 10h30 | Atelier 2Mettre en place une routine de prospection10h30 – 10h45 | Pause10h45 – 11h30 | Atelier 3Créer des prises de contact naturelles11h30 – 12h00 | Atelier 4Installer des habitudes efficaces12h00 – 12h30 | Apéritif réseauUn moment convivial pour échanger et créer de nouvelles connexions professionnelles. \n					\n				\n			\n			\n				\n				\n				\n				\n				\n				\n				\n				\n				\n				\n					\n					\n						\n						Cette matinée est au tarif de 90 euros et comprend :- Le café d’accueil- Les ateliers- L’apéritif- Le networking entre tous les participants \n					\n				\n			\n			\n				\n				\n				\n				\n			\n				\n				\n				\n				\n				\n				\n				Inscription
URL:https://padenformation.fr/evenement/developper-une-prospection-reguliere-et-efficace/
LOCATION:Sainte-Foy les Lyon\, France
CATEGORIES:Apéro Business
ATTACH;FMTTYPE=image/png:https://padenformation.fr/wp-content/uploads/2026/03/Developper-une-prospection-reguliere-et-efficace-a-Sainte-Foy-les-Lyon.png
END:VEVENT
END:VCALENDAR