BEGIN:VCALENDAR
VERSION:2.0
PRODID:-//PADEN FORMATION - ECPv6.15.20//NONSGML v1.0//EN
CALSCALE:GREGORIAN
METHOD:PUBLISH
X-ORIGINAL-URL:https://padenformation.fr
X-WR-CALDESC:Évènements pour PADEN FORMATION
REFRESH-INTERVAL;VALUE=DURATION:PT1H
X-Robots-Tag:noindex
X-PUBLISHED-TTL:PT1H
BEGIN:VTIMEZONE
TZID:Europe/Paris
BEGIN:DAYLIGHT
TZOFFSETFROM:+0100
TZOFFSETTO:+0200
TZNAME:CEST
DTSTART:20240331T010000
END:DAYLIGHT
BEGIN:STANDARD
TZOFFSETFROM:+0200
TZOFFSETTO:+0100
TZNAME:CET
DTSTART:20241027T010000
END:STANDARD
BEGIN:DAYLIGHT
TZOFFSETFROM:+0100
TZOFFSETTO:+0200
TZNAME:CEST
DTSTART:20250330T010000
END:DAYLIGHT
BEGIN:STANDARD
TZOFFSETFROM:+0200
TZOFFSETTO:+0100
TZNAME:CET
DTSTART:20251026T010000
END:STANDARD
BEGIN:DAYLIGHT
TZOFFSETFROM:+0100
TZOFFSETTO:+0200
TZNAME:CEST
DTSTART:20260329T010000
END:DAYLIGHT
BEGIN:STANDARD
TZOFFSETFROM:+0200
TZOFFSETTO:+0100
TZNAME:CET
DTSTART:20261025T010000
END:STANDARD
END:VTIMEZONE
BEGIN:VEVENT
DTSTART;TZID=Europe/Paris:20251120T183000
DTEND;TZID=Europe/Paris:20251120T230000
DTSTAMP:20260426T063228
CREATED:20250326T132634Z
LAST-MODIFIED:20251013T110940Z
UID:337516-1763663400-1763679600@padenformation.fr
SUMMARY:Afterwork entrepreneurs avec Dégustations de vins
DESCRIPTION:Afterwork entrepreneurs Dégustations de vins le 20 novembre 2025\n			\n			\n				\n				\n				\n				\n			\n				\n				\n				\n				\n				\n				\n				Inscription\n			\n			\n				\n				\n				\n				\n			\n				\n				\n			\n				\n				\n				\n				\n				\n				\n				\n				\n				\n				\n				\n				\n				\n				\n				\n				\n				\n				\n					\n					\n						\n						Venez participer à la Soirée Réseau Business avec Dégustation de vins à Sainte-Foy les Lyon dans l'ouest lyonnais. \nVous pourrez échanger sur les activités de chacun afin de créer des synergies\, des partenariats et du business afin de développer votre réseau professionnel.\n					\n				\n			\n			\n				\n				\n				\n				\n				\n				\n				\n				\n				\n				\n					b\n					\n						\n						Programme de la soirée : \n18h30 : accueil des participants19h00 : présentation et pitch avec la méthode BIM20h00 : dégustation de vins et buffet avec charcuterie et fromages21h00 : networking entre tous les participants \nPensez à apporter vos cartes de visite. \n					\n				\n			\n			\n				\n				\n				\n				\n				\n				\n				\n				\n				\n				\n					\n					\n						\n						Cette soirée Apéro Réseau Business est au tarif de 30 euros et comprend : \n\nLa dégustation de vins vieux\nLe buffet dinatoire\nLe networking entre les participants\n\n					\n				\n			\n			\n				\n				\n				\n				\n			\n				\n				\n				\n				\n				\n				\n				Inscription
URL:https://padenformation.fr/evenement/afterwork-entrepreneurs-avec-degustations-de-vins/
LOCATION:Sainte-Foy les Lyon\, France
CATEGORIES:Apéro Business
ATTACH;FMTTYPE=image/png:https://padenformation.fr/wp-content/uploads/2025/03/11-Vins-et-buffet-gourmand.png
END:VEVENT
END:VCALENDAR