BEGIN:VCALENDAR
VERSION:2.0
PRODID:-//PADEN FORMATION - ECPv6.15.20//NONSGML v1.0//EN
CALSCALE:GREGORIAN
METHOD:PUBLISH
X-ORIGINAL-URL:https://padenformation.fr
X-WR-CALDESC:Évènements pour PADEN FORMATION
REFRESH-INTERVAL;VALUE=DURATION:PT1H
X-Robots-Tag:noindex
X-PUBLISHED-TTL:PT1H
BEGIN:VTIMEZONE
TZID:Europe/Paris
BEGIN:DAYLIGHT
TZOFFSETFROM:+0100
TZOFFSETTO:+0200
TZNAME:CEST
DTSTART:20250330T010000
END:DAYLIGHT
BEGIN:STANDARD
TZOFFSETFROM:+0200
TZOFFSETTO:+0100
TZNAME:CET
DTSTART:20251026T010000
END:STANDARD
BEGIN:DAYLIGHT
TZOFFSETFROM:+0100
TZOFFSETTO:+0200
TZNAME:CEST
DTSTART:20260329T010000
END:DAYLIGHT
BEGIN:STANDARD
TZOFFSETFROM:+0200
TZOFFSETTO:+0100
TZNAME:CET
DTSTART:20261025T010000
END:STANDARD
BEGIN:DAYLIGHT
TZOFFSETFROM:+0100
TZOFFSETTO:+0200
TZNAME:CEST
DTSTART:20270328T010000
END:DAYLIGHT
BEGIN:STANDARD
TZOFFSETFROM:+0200
TZOFFSETTO:+0100
TZNAME:CET
DTSTART:20271031T010000
END:STANDARD
END:VTIMEZONE
BEGIN:VEVENT
DTSTART;TZID=Europe/Paris:20260709T170000
DTEND;TZID=Europe/Paris:20260709T223000
DTSTAMP:20260426T044055
CREATED:20260409T125608Z
LAST-MODIFIED:20260409T132101Z
UID:338548-1783616400-1783636200@padenformation.fr
SUMMARY:Intervenant(e)s - Afterwork des pros & Instants bien-être
DESCRIPTION:Intervenant(e)s - Afterwork des pros & Instants bien-être le 9 juillet 2026\n			\n			\n				\n				\n				\n				\n			\n				\n				\n				\n				\n				\n				\n				Inscription\n			\n			\n				\n				\n				\n				\n			\n				\n				\n			\n				\n				\n				\n				\n				\n				\n				\n				\n				\n				\n				\n				\n				\n				\n				\n				\n				\n				\n					\n					\n						\n						Cet afterwork dédié aux professionnels accueille des intervenant(e)s souhaitant faire découvrir leurs pratiques et partager leur univers.Une belle occasion de gagner en visibilité\, de développer votre réseau et de vivre un moment riche en échanges\, dans une ambiance chaleureuse et bienveillante chez Paden. \n					\n				\n			\n			\n				\n				\n				\n				\n				\n				\n				\n				\n				\n				\n					b\n					\n						\n						Accueil & installationDécouverte des lieux et mise en place des intervenant(e)s.Ouverture & networkingAccueil des participants et premiers échanges entre entrepreneurs.Découverte des pratiquesLes participants viennent à votre rencontre pour découvrir votre univers et vos pratiques.Temps d’échangesMoments privilégiés pour créer du lien et approfondir les discussions.Clôture convivialeUn buffet pour prolonger les échanges dans une ambiance chaleureuse. \n					\n				\n			\n			\n				\n				\n				\n				\n				\n				\n				\n				\n				\n				\n					\n					\n						\n						Cet Afterwork des pros & Instants bien-être est au prix de 80 euros et comprend : ✔ Un espace dédié pour présenter votre pratique✔ Votre présence sur un événement professionnel et convivial✔ Des temps de networking avec les participants✔ Une mise en avant de votre activité✔ Un buffet convivial pour échanger en toute simplicité \n					\n				\n			\n			\n				\n				\n				\n				\n			\n				\n				\n				\n				\n				\n				\n				Inscription
URL:https://padenformation.fr/evenement/intervenantes-afterwork-des-pros-instants-bien-etre/
LOCATION:Sainte-Foy les Lyon\, France
CATEGORIES:Apéro Business
ATTACH;FMTTYPE=image/png:https://padenformation.fr/wp-content/uploads/2026/04/Intervenants-Afterwork-des-pros-Instants-bien-etre.png
END:VEVENT
BEGIN:VEVENT
DTSTART;TZID=Europe/Paris:20260709T173000
DTEND;TZID=Europe/Paris:20260709T223000
DTSTAMP:20260426T044056
CREATED:20260409T115538Z
LAST-MODIFIED:20260409T131925Z
UID:338541-1783618200-1783636200@padenformation.fr
SUMMARY:Afterwork des pros & Instants bien-être
DESCRIPTION:Afterwork des pros & Instants bien-être le 9 juillet 2026\n			\n			\n				\n				\n				\n				\n			\n				\n				\n				\n				\n				\n				\n				Inscription\n			\n			\n				\n				\n				\n				\n			\n				\n				\n			\n				\n				\n				\n				\n				\n				\n				\n				\n				\n				\n				\n				\n				\n				\n				\n				\n				\n				\n					\n					\n						\n						Une soirée dédiée aux entrepreneurs souhaitant développer leur réseau tout en s’accordant un moment de détente. Profitez d’un cadre chaleureux pour échanger\, créer des opportunités professionnelles et découvrir différentes pratiques bien-être. Un événement convivial mêlant networking\, partage d’expériences et pause ressourçante\, idéal pour allier business et bien-être. \n					\n				\n			\n			\n				\n				\n				\n				\n				\n				\n				\n				\n				\n				\n					b\n					\n						\n						Accueil des participantsProfitez d’un moment convivial autour d’un verre pour faire connaissance et entrer doucement dans l’ambiance.Temps de networking guidéDes échanges facilités pour rencontrer les autres entrepreneurs\, créer du lien et partager vos activités dans un cadre simple et bienveillant.Découverte de pratiques bien-êtrePlusieurs espaces vous permettront de tester différentes approches bien-être (relaxation\, détente\, recentrage…) proposées par des intervenants.Temps libre & échangesUn moment pour approfondir les discussions\, développer votre réseau et profiter pleinement de l’événement à votre rythme.Buffet convivialClôturez la soirée autour d’un buffet gourmand\, propice aux échanges informels et aux belles rencontres. \n					\n				\n			\n			\n				\n				\n				\n				\n				\n				\n				\n				\n				\n				\n					\n					\n						\n						Cet Afterwork des pros & Instants bien-être est au prix de 20 euros et comprend : \n✔ Accès à l’afterwork dans un cadre chaleureux et convivial✔ Un temps de networking guidé pour faciliter les échanges✔ L’accès aux différents espaces de découverte bien-être✔ Des rencontres authentiques entre entrepreneurs✔ Un buffet gourmand pour prolonger les échanges \n					\n				\n			\n			\n				\n				\n				\n				\n			\n				\n				\n				\n				\n				\n				\n				Inscription
URL:https://padenformation.fr/evenement/afterwork-des-pros-instants-bien-etre/
LOCATION:Sainte-Foy les Lyon\, France
CATEGORIES:Apéro Business
ATTACH;FMTTYPE=image/png:https://padenformation.fr/wp-content/uploads/2026/04/Afterwork-des-pros-a-Sainte-Foy-les-Lyon-2.png
END:VEVENT
END:VCALENDAR