BEGIN:VCALENDAR
VERSION:2.0
PRODID:-//PADEN FORMATION - ECPv6.15.20//NONSGML v1.0//EN
CALSCALE:GREGORIAN
METHOD:PUBLISH
X-WR-CALNAME:PADEN FORMATION
X-ORIGINAL-URL:https://padenformation.fr
X-WR-CALDESC:Évènements pour PADEN FORMATION
REFRESH-INTERVAL;VALUE=DURATION:PT1H
X-Robots-Tag:noindex
X-PUBLISHED-TTL:PT1H
BEGIN:VTIMEZONE
TZID:Europe/Paris
BEGIN:DAYLIGHT
TZOFFSETFROM:+0100
TZOFFSETTO:+0200
TZNAME:CEST
DTSTART:20250330T010000
END:DAYLIGHT
BEGIN:STANDARD
TZOFFSETFROM:+0200
TZOFFSETTO:+0100
TZNAME:CET
DTSTART:20251026T010000
END:STANDARD
BEGIN:DAYLIGHT
TZOFFSETFROM:+0100
TZOFFSETTO:+0200
TZNAME:CEST
DTSTART:20260329T010000
END:DAYLIGHT
BEGIN:STANDARD
TZOFFSETFROM:+0200
TZOFFSETTO:+0100
TZNAME:CET
DTSTART:20261025T010000
END:STANDARD
BEGIN:DAYLIGHT
TZOFFSETFROM:+0100
TZOFFSETTO:+0200
TZNAME:CEST
DTSTART:20270328T010000
END:DAYLIGHT
BEGIN:STANDARD
TZOFFSETFROM:+0200
TZOFFSETTO:+0100
TZNAME:CET
DTSTART:20271031T010000
END:STANDARD
END:VTIMEZONE
BEGIN:VEVENT
DTSTART;TZID=Europe/Paris:20260324T083000
DTEND;TZID=Europe/Paris:20260324T123000
DTSTAMP:20260425T234314
CREATED:20260316T110924Z
LAST-MODIFIED:20260316T112317Z
UID:338414-1774341000-1774355400@padenformation.fr
SUMMARY:Développer une prospection régulière et efficace
DESCRIPTION:Développer une prospection régulière et efficace le 24 mars 2026\n			\n			\n				\n				\n				\n				\n			\n				\n				\n				\n				\n				\n				\n				Inscription\n			\n			\n				\n				\n				\n				\n			\n				\n				\n			\n				\n				\n				\n				\n				\n				\n				\n				\n				\n				\n				\n				\n				\n				\n				\n				\n				\n				\n					\n					\n						\n						Une matinée d'ateliers pratiques pour entrepreneurs et indépendants\, conçus pour vous donner les clés afin de développer votre prospection\, structurer votre communication et créer de nouvelles opportunités business.À l’issue de cette matinée\, vous repartirez avec des outils concrets\, des stratégies directement applicables et un réseau professionnel élargi\, prêts à faire progresser votre activité dès le lendemain. \n					\n				\n			\n			\n				\n				\n				\n				\n				\n				\n				\n				\n				\n				\n					b\n					\n						\n						Programme :8h30 – 9h00 | Accueil convivialCafé\, thé et gourmandises pour bien commencer la matinée.9h00 – 9h45 | Atelier 1Identifier ses opportunités de prospection9h45 – 10h30 | Atelier 2Mettre en place une routine de prospection10h30 – 10h45 | Pause10h45 – 11h30 | Atelier 3Créer des prises de contact naturelles11h30 – 12h00 | Atelier 4Installer des habitudes efficaces12h00 – 12h30 | Apéritif réseauUn moment convivial pour échanger et créer de nouvelles connexions professionnelles. \n					\n				\n			\n			\n				\n				\n				\n				\n				\n				\n				\n				\n				\n				\n					\n					\n						\n						Cette matinée est au tarif de 90 euros et comprend :- Le café d’accueil- Les ateliers- L’apéritif- Le networking entre tous les participants \n					\n				\n			\n			\n				\n				\n				\n				\n			\n				\n				\n				\n				\n				\n				\n				Inscription
URL:https://padenformation.fr/evenement/developper-une-prospection-reguliere-et-efficace/
LOCATION:Sainte-Foy les Lyon\, France
CATEGORIES:Apéro Business
ATTACH;FMTTYPE=image/png:https://padenformation.fr/wp-content/uploads/2026/03/Developper-une-prospection-reguliere-et-efficace-a-Sainte-Foy-les-Lyon.png
END:VEVENT
END:VCALENDAR