BEGIN:VCALENDAR
VERSION:2.0
PRODID:-//PADEN FORMATION - ECPv6.15.20//NONSGML v1.0//EN
CALSCALE:GREGORIAN
METHOD:PUBLISH
X-WR-CALNAME:PADEN FORMATION
X-ORIGINAL-URL:https://padenformation.fr
X-WR-CALDESC:Évènements pour PADEN FORMATION
REFRESH-INTERVAL;VALUE=DURATION:PT1H
X-Robots-Tag:noindex
X-PUBLISHED-TTL:PT1H
BEGIN:VTIMEZONE
TZID:Europe/Paris
BEGIN:DAYLIGHT
TZOFFSETFROM:+0100
TZOFFSETTO:+0200
TZNAME:CEST
DTSTART:20250330T010000
END:DAYLIGHT
BEGIN:STANDARD
TZOFFSETFROM:+0200
TZOFFSETTO:+0100
TZNAME:CET
DTSTART:20251026T010000
END:STANDARD
BEGIN:DAYLIGHT
TZOFFSETFROM:+0100
TZOFFSETTO:+0200
TZNAME:CEST
DTSTART:20260329T010000
END:DAYLIGHT
BEGIN:STANDARD
TZOFFSETFROM:+0200
TZOFFSETTO:+0100
TZNAME:CET
DTSTART:20261025T010000
END:STANDARD
BEGIN:DAYLIGHT
TZOFFSETFROM:+0100
TZOFFSETTO:+0200
TZNAME:CEST
DTSTART:20270328T010000
END:DAYLIGHT
BEGIN:STANDARD
TZOFFSETFROM:+0200
TZOFFSETTO:+0100
TZNAME:CET
DTSTART:20271031T010000
END:STANDARD
END:VTIMEZONE
BEGIN:VEVENT
DTSTART;TZID=Europe/Paris:20260302T133000
DTEND;TZID=Europe/Paris:20260302T153000
DTSTAMP:20260425T234236
CREATED:20260212T170614Z
LAST-MODIFIED:20260212T171823Z
UID:338382-1772458200-1772465400@padenformation.fr
SUMMARY:After Dej' Réseau Business
DESCRIPTION:After Dej' Réseau Business le 2 mars à Sainte-Foy les Lyon\n			\n			\n				\n				\n				\n				\n			\n				\n				\n				\n				\n				\n				\n				Inscription\n			\n			\n				\n				\n				\n				\n			\n				\n				\n			\n				\n				\n				\n				\n				\n				\n				\n				\n				\n				\n				\n				\n				\n				\n				\n				\n				\n				\n					\n					\n						\n						After Déj Réseau Business est une rencontre professionnelle conviviale organisée après le déjeuner\, pensée pour permettre aux entrepreneurs\, indépendants et professionnels de développer leur réseau dans un cadre détendu\, humain et efficace.Ce format favorise des échanges naturels et en gardant un objectif business clair : créer des connexions utiles\, partager ses besoins\, identifier des opportunités et avancer concrètement dans le développement de son activité.Dans l’esprit PADEN Formation\, l’After Déj Réseau Business allie convivialité\, qualité des échanges et efficacité professionnelle. \n					\n				\n			\n			\n				\n				\n				\n				\n				\n				\n				\n				\n				\n				\n					b\n					\n						\n						Programme : \n\nAccueil convivial autour de boissons chaudes\nPrésentations des participants sous la fome d'un pitch BIM\nJeu de connexions professionnelles\nNetworking libre\n\n					\n				\n			\n			\n				\n				\n				\n				\n				\n				\n				\n				\n				\n				\n					\n					\n						\n						Cet After Déj' Réseau Business est au tarif de 15 euros et comprend : \n\n\nAccès à la rencontre réseau After Déj Réseau Business \n\n\nAnimation et facilitation des échanges par PADEN Formation \n\n\nBoissons chaudes : café\, thé\, infusions \n\n\nDouceurs sucrées selon la saison et l’inspiration du moment \n\n\nAccès au réseau des participants \n\n\nMise en relation facilitée après l’événement \n\n\n					\n				\n			\n			\n				\n				\n				\n				\n			\n				\n				\n				\n				\n				\n				\n				Inscription
URL:https://padenformation.fr/evenement/after-dej-reseau-business/
LOCATION:Sainte-Foy les Lyon\, France
CATEGORIES:Apéro Business
ATTACH;FMTTYPE=image/png:https://padenformation.fr/wp-content/uploads/2026/02/After-Dej-Reseau-Business.png
END:VEVENT
END:VCALENDAR