BEGIN:VCALENDAR
VERSION:2.0
PRODID:-//PADEN FORMATION - ECPv6.15.20//NONSGML v1.0//EN
CALSCALE:GREGORIAN
METHOD:PUBLISH
X-ORIGINAL-URL:https://padenformation.fr
X-WR-CALDESC:Évènements pour PADEN FORMATION
REFRESH-INTERVAL;VALUE=DURATION:PT1H
X-Robots-Tag:noindex
X-PUBLISHED-TTL:PT1H
BEGIN:VTIMEZONE
TZID:Europe/Paris
BEGIN:DAYLIGHT
TZOFFSETFROM:+0100
TZOFFSETTO:+0200
TZNAME:CEST
DTSTART:20250330T010000
END:DAYLIGHT
BEGIN:STANDARD
TZOFFSETFROM:+0200
TZOFFSETTO:+0100
TZNAME:CET
DTSTART:20251026T010000
END:STANDARD
BEGIN:DAYLIGHT
TZOFFSETFROM:+0100
TZOFFSETTO:+0200
TZNAME:CEST
DTSTART:20260329T010000
END:DAYLIGHT
BEGIN:STANDARD
TZOFFSETFROM:+0200
TZOFFSETTO:+0100
TZNAME:CET
DTSTART:20261025T010000
END:STANDARD
BEGIN:DAYLIGHT
TZOFFSETFROM:+0100
TZOFFSETTO:+0200
TZNAME:CEST
DTSTART:20270328T010000
END:DAYLIGHT
BEGIN:STANDARD
TZOFFSETFROM:+0200
TZOFFSETTO:+0100
TZNAME:CET
DTSTART:20271031T010000
END:STANDARD
END:VTIMEZONE
BEGIN:VEVENT
DTSTART;TZID=Europe/Paris:20260211T123000
DTEND;TZID=Europe/Paris:20260211T140000
DTSTAMP:20260426T013540
CREATED:20260205T101452Z
LAST-MODIFIED:20260212T151510Z
UID:338316-1770813000-1770818400@padenformation.fr
SUMMARY:Visio Réseau Business
DESCRIPTION:Visio Réseau Business\n			\n			\n				\n				\n				\n				\n			\n				\n				\n				\n				\n				\n				\n				Inscription\n			\n			\n				\n				\n				\n				\n			\n				\n				\n			\n				\n				\n				\n				\n				\n				\n				\n				\n				\n				\n				\n				\n				\n				\n				\n				\n				\n				\n					\n					\n						\n						Les Visio Réseau Business sont des temps de networking professionnels en ligne\, pensés pour créer des connexions utiles\, développer son activité et élargir son réseau partout en France.Ces rencontres s’adressent aux entrepreneurs\, indépendants\, formateurs\, coachs\, porteurs de projet ou salariés souhaitant développer leur réseau professionnel dans un cadre structuré\, bienveillant et orienté résultats.Animées par une entrepreneuse et formatrice avec 12 ans d’expérience\, ces visios permettent d’allier relationnel\, stratégie réseau et développement d’opportunités professionnelles.👉 L’objectif : repartir avec des contacts utiles\, de la visibilité et des pistes business concrètes. \n					\n				\n			\n			\n				\n				\n				\n				\n				\n				\n				\n				\n				\n				\n					b\n					\n						\n						Programme :\n1.  Pitch BIM express\nPrésenter son activité\, sa valeur ajoutée et ses besoins du moment de façon claire et impactante. \n2. Thématique business du jour\nApport court et concret autour d’un sujet utile pour développer son activité :Business • IA • Réseaux sociaux • Visibilité • Développement commercial \n3. Mur des besoins du groupe\nIdentifier les besoins professionnels des participants  \n4. Astuce Business / IA / Réseaux sociaux\nUn conseil simple et immédiatement applicable dans son activité. \n5. Challenge réseau\nObjectif réseau à réaliser entre deux sessions pour créer du lien et générer des opportunités. \n6. Publication collective visibilité\nMise en avant des participants sur LinkedIn et Facebook pour valoriser leurs activités. \n					\n				\n			\n			\n				\n				\n				\n				\n				\n				\n				\n				\n				\n				\n					\n					\n						\n						La Visio Réseau Business est gratuite et comprend : \n\n\n\n\nParticipation à une session Visio Réseau Business structurée \n\n\nTemps de présentation professionnelle (Pitch BIM) \n\n\nAccès à une thématique business à forte valeur ajoutée \n\n\nPartage des besoins professionnels du groupe \n\n\nApport d’astuces business / IA / réseaux sociaux \n\n\nDynamique réseau avec challenge entre les sessions \n\n\nMise en visibilité collective sur les réseaux sociaux \n\n\nAccès à un réseau professionnel bienveillant et engagé \n\n\nÉchanges et retours d’expérience terrain \n\n\nOpportunités de connexions\, partenariats et recommandations \n\n\n\n\n					\n				\n			\n			\n				\n				\n				\n				\n			\n				\n				\n				\n				\n				\n				\n				Inscription
URL:https://padenformation.fr/evenement/visio-reseau-business/
LOCATION:Visio\, France
CATEGORIES:Apéro Business
ATTACH;FMTTYPE=image/png:https://padenformation.fr/wp-content/uploads/2026/02/Post-Visio-Reseau-Business.png
END:VEVENT
END:VCALENDAR