BEGIN:VCALENDAR
VERSION:2.0
PRODID:-//PADEN FORMATION - ECPv6.15.20//NONSGML v1.0//EN
CALSCALE:GREGORIAN
METHOD:PUBLISH
X-WR-CALNAME:PADEN FORMATION
X-ORIGINAL-URL:https://padenformation.fr
X-WR-CALDESC:Évènements pour PADEN FORMATION
REFRESH-INTERVAL;VALUE=DURATION:PT1H
X-Robots-Tag:noindex
X-PUBLISHED-TTL:PT1H
BEGIN:VTIMEZONE
TZID:Europe/Paris
BEGIN:DAYLIGHT
TZOFFSETFROM:+0100
TZOFFSETTO:+0200
TZNAME:CEST
DTSTART:20250330T010000
END:DAYLIGHT
BEGIN:STANDARD
TZOFFSETFROM:+0200
TZOFFSETTO:+0100
TZNAME:CET
DTSTART:20251026T010000
END:STANDARD
BEGIN:DAYLIGHT
TZOFFSETFROM:+0100
TZOFFSETTO:+0200
TZNAME:CEST
DTSTART:20260329T010000
END:DAYLIGHT
BEGIN:STANDARD
TZOFFSETFROM:+0200
TZOFFSETTO:+0100
TZNAME:CET
DTSTART:20261025T010000
END:STANDARD
BEGIN:DAYLIGHT
TZOFFSETFROM:+0100
TZOFFSETTO:+0200
TZNAME:CEST
DTSTART:20270328T010000
END:DAYLIGHT
BEGIN:STANDARD
TZOFFSETFROM:+0200
TZOFFSETTO:+0100
TZNAME:CET
DTSTART:20271031T010000
END:STANDARD
END:VTIMEZONE
BEGIN:VEVENT
DTSTART;TZID=Europe/Paris:20260205T183000
DTEND;TZID=Europe/Paris:20260205T230000
DTSTAMP:20260426T013311
CREATED:20251212T162643Z
LAST-MODIFIED:20251212T163944Z
UID:338212-1770316200-1770332400@padenformation.fr
SUMMARY:Apéro Réseau Business - Crêpes Party & Bières artisanales
DESCRIPTION:Apéro Réseau Business - Crêpes Party & Bières artisanales\n			\n			\n				\n				\n				\n				\n			\n				\n				\n				\n				\n				\n				\n				Inscription\n			\n			\n				\n				\n				\n				\n			\n				\n				\n			\n				\n				\n				\n				\n				\n				\n				\n				\n				\n				\n				\n				\n				\n				\n				\n				\n				\n				\n					\n					\n						\n						L’Apéro Réseau Business du 5 février 2026 vous invite à un moment convivial et gourmand chez Paden ! Une soirée idéale pour rencontrer d’autres entrepreneurs\, échanger vos projets et développer votre réseau dans une ambiance chaleureuse et détendue\, autour de délicieuses crêpes et de bières artisanales soigneusement sélectionnées. \n					\n				\n			\n			\n				\n				\n				\n				\n				\n				\n				\n				\n				\n				\n					b\n					\n						\n						Programme de la soirée : \n\n\nJeu des Connexions : créez des liens avec d’autres entrepreneurs de façon ludique \n\n\nPitch BIM : présentez votre activité en 1 minute chrono \n\n\nCrêpes Party salées et sucrées : dégustation gourmande pour régaler vos papilles \n\n\nDégustation de bières artisanales : découvrez des saveurs locales uniques \n\n\nRencontres professionnelles authentiques : échangez\, collaborez et développez votre réseau \n\n\n					\n				\n			\n			\n				\n				\n				\n				\n				\n				\n				\n				\n				\n				\n					\n					\n						\n						L'Apéro Réseau Business est au tarif de 30 euros et comprend : \n\n\nAccès à l’Apéro Réseau Business du 5 février 2026 \n\n\nDégustation de crêpes salées et sucrées \n\n\nSélection de bières artisanales \n\n\nOpportunité de rencontrer et échanger avec d’autres professionnels \n\n\nAmbiance conviviale et espace dédié au networking \n\n\n					\n				\n			\n			\n				\n				\n				\n				\n			\n				\n				\n				\n				\n				\n				\n				Inscription
URL:https://padenformation.fr/evenement/apero-reseau-business-crepes-party-bieres-artisanales/
LOCATION:Sainte-Foy les Lyon\, France
CATEGORIES:Apéro Business
ATTACH;FMTTYPE=image/png:https://padenformation.fr/wp-content/uploads/2025/12/Apero-Reseau-Business-Crepes-Party-Bieres.png
END:VEVENT
END:VCALENDAR