BEGIN:VCALENDAR
VERSION:2.0
PRODID:-//PADEN FORMATION - ECPv6.15.20//NONSGML v1.0//EN
CALSCALE:GREGORIAN
METHOD:PUBLISH
X-ORIGINAL-URL:https://padenformation.fr
X-WR-CALDESC:Évènements pour PADEN FORMATION
REFRESH-INTERVAL;VALUE=DURATION:PT1H
X-Robots-Tag:noindex
X-PUBLISHED-TTL:PT1H
BEGIN:VTIMEZONE
TZID:Europe/Paris
BEGIN:DAYLIGHT
TZOFFSETFROM:+0100
TZOFFSETTO:+0200
TZNAME:CEST
DTSTART:20250330T010000
END:DAYLIGHT
BEGIN:STANDARD
TZOFFSETFROM:+0200
TZOFFSETTO:+0100
TZNAME:CET
DTSTART:20251026T010000
END:STANDARD
BEGIN:DAYLIGHT
TZOFFSETFROM:+0100
TZOFFSETTO:+0200
TZNAME:CEST
DTSTART:20260329T010000
END:DAYLIGHT
BEGIN:STANDARD
TZOFFSETFROM:+0200
TZOFFSETTO:+0100
TZNAME:CET
DTSTART:20261025T010000
END:STANDARD
BEGIN:DAYLIGHT
TZOFFSETFROM:+0100
TZOFFSETTO:+0200
TZNAME:CEST
DTSTART:20270328T010000
END:DAYLIGHT
BEGIN:STANDARD
TZOFFSETFROM:+0200
TZOFFSETTO:+0100
TZNAME:CET
DTSTART:20271031T010000
END:STANDARD
END:VTIMEZONE
BEGIN:VEVENT
DTSTART;TZID=Europe/Paris:20260114T083000
DTEND;TZID=Europe/Paris:20260114T103000
DTSTAMP:20260426T032208
CREATED:20260105T161255Z
LAST-MODIFIED:20260108T143202Z
UID:338265-1768379400-1768386600@padenformation.fr
SUMMARY:Café Réseau Business
DESCRIPTION:Café Réseau Business à Sainte-Foy les Lyon le 14 janvier 2026\n			\n			\n				\n				\n				\n				\n			\n				\n				\n				\n				\n				\n				\n				Inscription\n			\n			\n				\n				\n				\n				\n			\n				\n				\n			\n				\n				\n				\n				\n				\n				\n				\n				\n				\n				\n				\n				\n				\n				\n				\n				\n				\n				\n					\n					\n						\n						Participez au Café Réseau Business à Sainte-Foy-lès-Lyon chez PADEN. Un moment convivial pour développer votre réseau professionnel\, échanger entre entrepreneurs\, partager vos expériences et créer de nouvelles opportunités dans un cadre chaleureux et bienveillant. \n					\n				\n			\n			\n				\n				\n				\n				\n				\n				\n				\n				\n				\n				\n					b\n					\n						\n						Programme Café Réseau Business : \n8h30 – Accueil des participantsAccueil convivial autour d’un café et de petites gourmandises. \n9h00 – Présentation Pitch BIMChaque participant se présente brièvement afin de faire découvrir son activité\, ses besoins et ses offres. \n10h00 – Networking libre entre participantsÉchanges\, création de contacts et opportunités business. \n					\n				\n			\n			\n				\n				\n				\n				\n				\n				\n				\n				\n				\n				\n					\n					\n						\n						La matinée Café Réseau Business est au tarif de 12 €. Ce prix comprend : \n\n\nLe café et ses gourmandises \n\n\nLes temps de networking et de mise en relation \n\n\nUne ambiance conviviale et bienveillante \n\n\n					\n				\n			\n			\n				\n				\n				\n				\n			\n				\n				\n				\n				\n				\n				\n				Inscription
URL:https://padenformation.fr/evenement/cafe-reseau-business-5/
LOCATION:Sainte-Foy les Lyon\, France
CATEGORIES:Apéro Business
ATTACH;FMTTYPE=image/png:https://padenformation.fr/wp-content/uploads/2026/01/Cafe-Reseau-Business-14-janvier-a-Sainte-Foy-les-Lyon.png
END:VEVENT
END:VCALENDAR