BEGIN:VCALENDAR
VERSION:2.0
PRODID:-//PADEN FORMATION - ECPv6.15.20//NONSGML v1.0//EN
CALSCALE:GREGORIAN
METHOD:PUBLISH
X-WR-CALNAME:PADEN FORMATION
X-ORIGINAL-URL:https://padenformation.fr
X-WR-CALDESC:Évènements pour PADEN FORMATION
REFRESH-INTERVAL;VALUE=DURATION:PT1H
X-Robots-Tag:noindex
X-PUBLISHED-TTL:PT1H
BEGIN:VTIMEZONE
TZID:Europe/Paris
BEGIN:DAYLIGHT
TZOFFSETFROM:+0100
TZOFFSETTO:+0200
TZNAME:CEST
DTSTART:20250330T010000
END:DAYLIGHT
BEGIN:STANDARD
TZOFFSETFROM:+0200
TZOFFSETTO:+0100
TZNAME:CET
DTSTART:20251026T010000
END:STANDARD
BEGIN:DAYLIGHT
TZOFFSETFROM:+0100
TZOFFSETTO:+0200
TZNAME:CEST
DTSTART:20260329T010000
END:DAYLIGHT
BEGIN:STANDARD
TZOFFSETFROM:+0200
TZOFFSETTO:+0100
TZNAME:CET
DTSTART:20261025T010000
END:STANDARD
BEGIN:DAYLIGHT
TZOFFSETFROM:+0100
TZOFFSETTO:+0200
TZNAME:CEST
DTSTART:20270328T010000
END:DAYLIGHT
BEGIN:STANDARD
TZOFFSETFROM:+0200
TZOFFSETTO:+0100
TZNAME:CET
DTSTART:20271031T010000
END:STANDARD
END:VTIMEZONE
BEGIN:VEVENT
DTSTART;TZID=Europe/Paris:20260504T190000
DTEND;TZID=Europe/Paris:20260625T230000
DTSTAMP:20260426T023619
CREATED:20260424T101537Z
LAST-MODIFIED:20260424T102228Z
UID:338659-1777921200-1782428400@padenformation.fr
SUMMARY:Afterwork des pros spécial "Speed meeting"
DESCRIPTION:Afterwork des pros spécial "Speed Meeting" le 4 mai à 19h\n\n\n\n\n\n\nInscription\n\n\n\n\n\n\n\nDémarrer la semaine avec des connexions inspirantes.Cet afterwork des pros spécial Speed Meeting est conçu pour rencontrer d’autres entrepreneurs\, échanger facilement et créer du lien dans un cadre convivial.Grâce à un format guidé\, chacun trouve sa place et les échanges se font de manière fluide\, naturelle et dynamique. \n\n\n\n\nbProgramme de la soirée : \n\nAccueil des participants\nSessions de Speed Meeting (rencontres rapides)\nTemps d’échanges libres pour approfondir les discussions\nApéritif convivial\n\n\n\n\n\nCet évènement est au tarif de 20 euros et comprenant : \n\nL’accès à l’événement\nL’animation et le format guidé\nLes sessions de Speed Meeting\nUn apéritif convivial\nUn cadre propice aux échanges et au networking\n\n\n\n\n\n\n\nInscription
URL:https://padenformation.fr/evenement/afterwork-des-pros-special-speed-meeting/
LOCATION:Sainte-Foy les Lyon\, France
CATEGORIES:Apéro Business
ATTACH;FMTTYPE=image/png:https://padenformation.fr/wp-content/uploads/2026/04/Afterwork-des-pros-Speed-Meeting.png
END:VEVENT
BEGIN:VEVENT
DTSTART;TZID=Europe/Paris:20260625T173000
DTEND;TZID=Europe/Paris:20260625T223000
DTSTAMP:20260426T023620
CREATED:20260407T160102Z
LAST-MODIFIED:20260410T145408Z
UID:338531-1782408600-1782426600@padenformation.fr
SUMMARY:Afterwork des pros spécial "Flash'mob"
DESCRIPTION:Afterwork des pros spécial "Flash'mob" le 25 juin à 17h306ème édition\n			\n			\n				\n				\n				\n				\n			\n				\n				\n				\n				\n				\n				\n				Inscription\n			\n			\n				\n				\n				\n				\n			\n				\n				\n			\n				\n				\n				\n				\n				\n				\n				\n				\n				\n				\n				\n				\n				\n				\n				\n				\n				\n				\n					\n					\n						\n						Venez participer à l'Afterwork des entrepreneurs spécial "Flash'mob" qui a lieu au Parc Chabrières à Oullins.Cet évènement a pour objectif de développer la visibilité des entreprises participantes à l'opération.Une danse en ligne collective sera proposée ce qui vous permettra de créer du lien en toute convivialité et d'une manière originale.Pas besoin de savoir danser\, Dolorès FRETARD vous apprendra des pas de danse très simples afin de créer une chorégraphie tous ensemble. \n					\n				\n			\n			\n				\n				\n				\n				\n				\n				\n				\n				\n				\n				\n					b\n					\n						\n						Programme de la soirée : \n17h00 : accueil des participants \n17h30 : apprentissage des pas de danse \n19h00 : flash'mob filmée \n19h30 : apéritif et networking entre tous les participants \n					\n				\n			\n			\n				\n				\n				\n				\n				\n				\n				\n				\n				\n				\n					\n					\n						\n						Cet évènement a lieu au Parc Chabrières d'Oullins au tarif de 30 euros et comprenant : \n\nLa danse collective "Flash'mob"\nLa visibilité sur les réseaux de tous les participants\nLe buffet apéritif\nLe networking entre tous les participants\n\n					\n				\n			\n			\n				\n				\n				\n				\n			\n				\n				\n				\n				\n				\n				\n				Inscription
URL:https://padenformation.fr/evenement/afterwork-des-entrepreneurs-special-flashmob-2/
LOCATION:Parc Marius Bourrât 164 avenue Maréchal Foch 69110 Sainte-Foy les Lyon
CATEGORIES:Apéro Business
ATTACH;FMTTYPE=image/png:https://padenformation.fr/wp-content/uploads/2026/04/Afterwoek-des-pros-special-Flash-mob-le-25-juin-3.png
END:VEVENT
END:VCALENDAR