BEGIN:VCALENDAR
VERSION:2.0
PRODID:-//PADEN FORMATION - ECPv6.15.20//NONSGML v1.0//EN
CALSCALE:GREGORIAN
METHOD:PUBLISH
X-ORIGINAL-URL:https://padenformation.fr
X-WR-CALDESC:Évènements pour PADEN FORMATION
REFRESH-INTERVAL;VALUE=DURATION:PT1H
X-Robots-Tag:noindex
X-PUBLISHED-TTL:PT1H
BEGIN:VTIMEZONE
TZID:Europe/Paris
BEGIN:DAYLIGHT
TZOFFSETFROM:+0100
TZOFFSETTO:+0200
TZNAME:CEST
DTSTART:20250330T010000
END:DAYLIGHT
BEGIN:STANDARD
TZOFFSETFROM:+0200
TZOFFSETTO:+0100
TZNAME:CET
DTSTART:20251026T010000
END:STANDARD
BEGIN:DAYLIGHT
TZOFFSETFROM:+0100
TZOFFSETTO:+0200
TZNAME:CEST
DTSTART:20260329T010000
END:DAYLIGHT
BEGIN:STANDARD
TZOFFSETFROM:+0200
TZOFFSETTO:+0100
TZNAME:CET
DTSTART:20261025T010000
END:STANDARD
BEGIN:DAYLIGHT
TZOFFSETFROM:+0100
TZOFFSETTO:+0200
TZNAME:CEST
DTSTART:20270328T010000
END:DAYLIGHT
BEGIN:STANDARD
TZOFFSETFROM:+0200
TZOFFSETTO:+0100
TZNAME:CET
DTSTART:20271031T010000
END:STANDARD
END:VTIMEZONE
BEGIN:VEVENT
DTSTART;TZID=Europe/Paris:20260416T110902
DTEND;TZID=Europe/Paris:20260416T110902
DTSTAMP:20260425T233054
CREATED:20260416T101428Z
LAST-MODIFIED:20260416T120008Z
UID:338558-1776337742-1776337742@padenformation.fr
SUMMARY:Kit de communication digitale - Gagnez en visibilité avec méthode et régularité
DESCRIPTION:Kit de communication digitale et visio de prise en main\n			\n			\n				\n				\n				\n				\n			\n				\n				\n				\n				\n				\n				\n				Inscription\n			\n			\n				\n				\n				\n				\n			\n				\n				\n			\n				\n				\n				\n				\n				\n				\n				\n				\n				\n				\n				\n				\n				\n				\n				\n				\n				\n				\n					\n					\n						\n						Développez votre visibilité et gagnez en impact avec une communication digitale claire\, structurée et efficace.Ce kit de communication digitale a été conçu pour vous aider à organiser l’ensemble de vos actions\, créer du contenu facilement et communiquer avec régularité\, sans y passer des heures.Pensé de manière concrète et pratico-pratique\, il vous propose des outils simples\, directement utilisables et adaptables à votre activité\, quel que soit le canal utilisé (réseaux sociaux\, contenus\, newsletters…).Vous avancez pas à pas avec une méthode claire\, des idées prêtes à l’emploi et une organisation fluide pour rendre votre communication plus naturelle et professionnelle.En complément\, une visio de prise en main est incluse pour vous accompagner dès le départ\, répondre à vos questions et vous permettre d’utiliser pleinement le kit. \n					\n				\n			\n			\n				\n				\n				\n				\n				\n				\n				\n				\n				\n				\n					A\n					\n						\n						1. Structurer sa communication- Objectifs\, cibles et canaux- Organisation simple et efficace2. Planifier ses actions- Planning éditorial sur 8 mois- Jours et horaires recommandés- Méthode pour rester régulier(ère)3. Créer du contenu facilement- Idées de contenus prêtes à l’emploi- Formats variés (conseils\, expériences\, visibilité\, ventes douces)4. Rendre ses contenus impactants- Structures simples et efficaces- Techniques pour capter l’attention5. S’organiser avec les bons outils- Supports modifiables (Excel)- Méthodes pour gagner du temps6. Démarrer sereinement- Visio de prise en main- Conseils personnalisés \n					\n				\n			\n			\n				\n				\n				\n				\n				\n				\n				\n				\n				\n				\n					\n					\n						\n						Pour le lancment du Kit de communication digitale\, le prix est à 65 euros jusqu'au 30 avril (au lieu de 90 euros) et comprend :✔️ 50 conseils inspirants pour nourrir votre communauté✔️ 85 idées de jeux concours pour engager votre audience✔️ 100 techniques anti-stress pour gagner en aisance et confiance✔️ 100 questions engageantes pour créer de l’interaction✔️ 100 affirmations positives pour renforcer votre posture et votre mindset✔️ Plus de 200 hashtags classés selon les types de publications✔️ Un calendrier des événements marketing 2026 pour créer des contenus décalés et créatifs tout au long de l’année✔️ 20 exemples de posts avec leur structure pour faciliter votre passage à l’action✔️ Un calendrier détaillé mois par mois sur 12 mois\, avec des idées de publications et les jours de diffusion recommandés sur LinkedIn et Facebook\, mais aussi sur vos autres canaux de communication :  blog\, site internet\, Google Profile Business et newsletter✔️ Un mode d’emploi détaillé pour utiliser le kit facilement et efficacement✔️ Une visio de 30 minutes pour une bonne prise en main de votre Kit de communication digitale et ainsi répondre à toutes vos questions. \n					\n				\n			\n			\n				\n				\n				\n				\n			\n				\n				\n				\n				\n				\n				\n				Inscription
URL:https://padenformation.fr/evenement/kit-de-communication-digitale-gagnez-en-visibilite-avec-methode-et-regularite/
LOCATION:Visio\, France
CATEGORIES:Ateliers
ATTACH;FMTTYPE=image/png:https://padenformation.fr/wp-content/uploads/2026/04/Kit-communication-digitale-4.png
END:VEVENT
BEGIN:VEVENT
DTSTART;TZID=Europe/Paris:20260416T145249
DTEND;TZID=Europe/Paris:20260416T145249
DTSTAMP:20260425T233054
CREATED:20260416T145235Z
LAST-MODIFIED:20260416T152326Z
UID:338570-1776351169-1776351169@padenformation.fr
SUMMARY:Communauté Réseau Business - Développez votre activité chaque semaine
DESCRIPTION:Communauté réseau Business - Dévdeloppez votre activité chaque semaine\n			\n			\n				\n				\n				\n				\n			\n				\n				\n				\n				\n				\n				\n				Inscription\n			\n			\n				\n				\n				\n				\n			\n				\n				\n			\n				\n				\n				\n				\n				\n				\n				\n				\n				\n				\n				\n				\n				\n				\n				\n				\n				\n				\n					\n					\n						\n						Rejoignez une Communauté Réseau Business dynamique sur WhatsApp\, pensée pour vous aider à développer votre activité avec simplicité\, régularité et efficacité.Ici\, pas de réseau impersonnel : vous intégrez un espace vivant\, réactif et humain\, directement accessible depuis votre téléphone.Vous échangez facilement\, créez des liens de qualité et accédez à de vraies opportunités business.Animée par Dolorès de PADEN Formation\, avec plus de 12 ans d’expérience en formation et en animation de réseaux\, cette communauté vous permet de rester visible\, actif et entouré\, même avec un emploi du temps chargé.👉 Un format fluide\, concret et accessible partout en France et à l’international. \n					\n				\n			\n			\n				\n				\n				\n				\n				\n				\n				\n				\n				\n				\n					A\n					\n						\n						Chaque semaine sur WhastApp :  \n\nVisio du lundi à 18hPour échanger\, pitcher\, partager vos actualités et créer du lien en direct\nChaque mercredi :Échanges rapides et efficaces entre membresEntraide concrète et conseils businessPartages d’opportunités et de contactsAstuces pour développer votre activité\nChaque vendredi :Coup de boost visibilité sur les réseauxConseil en communication partagé par mes soins sur la Communauté (suivant ce que l'on s'est dit le lundi)\nTout au long de l’année :Mise en avant des événements Réseau Business PADENOpportunités de collaborations2 rencontres physiques par an pour aller encore plus loin dans les échanges\n\n					\n				\n			\n			\n				\n				\n				\n				\n				\n				\n				\n				\n				\n				\n					\n					\n						\n						Pour accéder à la Communauté Réseau Business\, le prix est de 20 euros par mois\, sans engagmeent\, vous pouvez quitter le groupe à tout moment. \nEn rejoignant la Communauté\, vous bénéficiez de : \n\nAccès au groupe WhatsApp privé et actif\nParticipation à la visio hebdomadaire du lundi à 18h\nUn réseau accessible partout\, à tout moment\nUne entraide concrète et réactive\nDes opportunités de visibilité et de recommandations\nDes échanges simples\, rapides et efficaces\nUne dynamique positive et motivante\nL’accompagnement d’une professionnelle du réseau\n\n  \n					\n				\n			\n			\n				\n				\n				\n				\n			\n				\n				\n				\n				\n				\n				\n				Inscription
URL:https://padenformation.fr/evenement/communaute-reseau-business-developpez-votre-activite-chaque-semaine/
LOCATION:Visio\, France
CATEGORIES:Ateliers
ATTACH;FMTTYPE=image/png:https://padenformation.fr/wp-content/uploads/2026/04/Communaute-Reseau-Business-WhatsApp.png
END:VEVENT
END:VCALENDAR