BEGIN:VCALENDAR
VERSION:2.0
PRODID:-//PADEN FORMATION - ECPv6.15.20//NONSGML v1.0//EN
CALSCALE:GREGORIAN
METHOD:PUBLISH
X-ORIGINAL-URL:https://padenformation.fr
X-WR-CALDESC:Évènements pour PADEN FORMATION
REFRESH-INTERVAL;VALUE=DURATION:PT1H
X-Robots-Tag:noindex
X-PUBLISHED-TTL:PT1H
BEGIN:VTIMEZONE
TZID:Europe/Paris
BEGIN:DAYLIGHT
TZOFFSETFROM:+0100
TZOFFSETTO:+0200
TZNAME:CEST
DTSTART:20250330T010000
END:DAYLIGHT
BEGIN:STANDARD
TZOFFSETFROM:+0200
TZOFFSETTO:+0100
TZNAME:CET
DTSTART:20251026T010000
END:STANDARD
BEGIN:DAYLIGHT
TZOFFSETFROM:+0100
TZOFFSETTO:+0200
TZNAME:CEST
DTSTART:20260329T010000
END:DAYLIGHT
BEGIN:STANDARD
TZOFFSETFROM:+0200
TZOFFSETTO:+0100
TZNAME:CET
DTSTART:20261025T010000
END:STANDARD
BEGIN:DAYLIGHT
TZOFFSETFROM:+0100
TZOFFSETTO:+0200
TZNAME:CEST
DTSTART:20270328T010000
END:DAYLIGHT
BEGIN:STANDARD
TZOFFSETFROM:+0200
TZOFFSETTO:+0100
TZNAME:CET
DTSTART:20271031T010000
END:STANDARD
END:VTIMEZONE
BEGIN:VEVENT
DTSTART;TZID=Europe/Paris:20260223T083000
DTEND;TZID=Europe/Paris:20260224T183000
DTSTAMP:20260426T012827
CREATED:20251211T142935Z
LAST-MODIFIED:20260212T161249Z
UID:338182-1771835400-1771957800@padenformation.fr
SUMMARY:Action Entrepreneurs - 2 journées d'ateliers 100% Pratico-Pratique
DESCRIPTION:Action Entrepreneurs - 2 journées d'ateliers 100% Pratico-Pratique\n			\n			\n				\n				\n				\n				\n			\n				\n				\n				\n				\n				\n				\n				Inscription\n			\n			\n				\n				\n				\n				\n			\n				\n				\n			\n				\n				\n				\n				\n				\n				\n				\n				\n				\n				\n				\n				\n				\n				\n				\n				\n				\n				\n					\n					\n						\n						Deux jours d’ateliers pratiques et concrets pour entrepreneurs et indépendants\, conçus pour vous donner les clés afin de développer votre visibilité\, structurer votre communication et créer de nouvelles opportunités business.À l’issue de ces deux jours\, vous repartirez avec des outils concrets\, des stratégies directement applicables et un réseau professionnel élargi\, prêts à faire progresser votre activité dès le lendemain. \n					\n				\n			\n			\n				\n				\n				\n				\n				\n				\n				\n				\n				\n				\n					b\n					\n						\n						LUNDI 23 FEVRIER 20268h30 - 9h00 : Accueil & café de bienvenue9h00 - 10h30 : Présenter son activité avec le Pitch BIM10h30 - 12h00 : Optimiser son profil LinkedIn en direct12h00 - 14h00 : Déjeuner buffet14h00 - 15h30 : Créer de la visibilité sur LinkedIn avec les bonnes habitudes15h30 - 17h00 : Rédiger une newsletter impactante et choisir la bonne plateforme17h00 - 18h00 : Créer des visuels professionnels avec Canva18h30 - Apéritif networking \nMARDI 24 FEVRIER 20268h30 - 9h00 : Accueil & café de bienvenue9h00 - 10h30 : Construire son planning de publications 202610h30 - 12h00 : Développer son réseau professionnel efficacement12h00 - 14h00 : Déjeuner buffet14h00 - 15h30 : Automatiser votre prospection LinkedIn avec Waalaxy15h30 - 17h00 : Développer votre entreprise grâce à Facebook17h00 - 18h00 : Utiliser l’IA au quotidien pour gagner du temps18h30 - Apéritif networking \n					\n				\n			\n			\n				\n				\n				\n				\n				\n				\n				\n				\n				\n				\n					\n					\n						\n						En participant à Action Entrepreneurs\, vous bénéficiez d’un ensemble complet de services pensés pour vous faire progresser rapidement et concrètement. Tout est inclus pour vous permettre de développer votre visibilité\, structurer votre communication et créer de nouvelles opportunités. \nTARIFS :- 1 journée au choix : 180 €- Forfait 2 jours : 300 € \nLe tarif inclut les ateliers mais aussi :- Le café d’accueil- Le déjeuner buffet (variété\, convivialité)- L’apéritif de fin de journée (avec ou sans alcool) \n					\n				\n			\n			\n				\n				\n				\n				\n			\n				\n				\n				\n				\n				\n				\n				Inscription
URL:https://padenformation.fr/evenement/action-entrepreneurs-2-journees-dateliers-100-pratico-pratique/
LOCATION:Sainte-Foy les Lyon\, France
CATEGORIES:Apéro Business
ATTACH;FMTTYPE=image/png:https://padenformation.fr/wp-content/uploads/2025/12/Ateliers-pratico-pratique-19-et-20-janvier-2026-2.png
END:VEVENT
END:VCALENDAR