BEGIN:VCALENDAR
VERSION:2.0
PRODID:-//PADEN FORMATION - ECPv6.15.20//NONSGML v1.0//EN
CALSCALE:GREGORIAN
METHOD:PUBLISH
X-ORIGINAL-URL:https://padenformation.fr
X-WR-CALDESC:Évènements pour PADEN FORMATION
REFRESH-INTERVAL;VALUE=DURATION:PT1H
X-Robots-Tag:noindex
X-PUBLISHED-TTL:PT1H
BEGIN:VTIMEZONE
TZID:Europe/Paris
BEGIN:DAYLIGHT
TZOFFSETFROM:+0100
TZOFFSETTO:+0200
TZNAME:CEST
DTSTART:20250330T010000
END:DAYLIGHT
BEGIN:STANDARD
TZOFFSETFROM:+0200
TZOFFSETTO:+0100
TZNAME:CET
DTSTART:20251026T010000
END:STANDARD
BEGIN:DAYLIGHT
TZOFFSETFROM:+0100
TZOFFSETTO:+0200
TZNAME:CEST
DTSTART:20260329T010000
END:DAYLIGHT
BEGIN:STANDARD
TZOFFSETFROM:+0200
TZOFFSETTO:+0100
TZNAME:CET
DTSTART:20261025T010000
END:STANDARD
BEGIN:DAYLIGHT
TZOFFSETFROM:+0100
TZOFFSETTO:+0200
TZNAME:CEST
DTSTART:20270328T010000
END:DAYLIGHT
BEGIN:STANDARD
TZOFFSETFROM:+0200
TZOFFSETTO:+0100
TZNAME:CET
DTSTART:20271031T010000
END:STANDARD
END:VTIMEZONE
BEGIN:VEVENT
DTSTART;TZID=Europe/Paris:20260108T183000
DTEND;TZID=Europe/Paris:20260108T230000
DTSTAMP:20260426T045722
CREATED:20251212T152730Z
LAST-MODIFIED:20251212T165246Z
UID:338201-1767897000-1767913200@padenformation.fr
SUMMARY:Apéro Réseau Business - Tartiflette\, charcuterie et vin blanc de Savoie
DESCRIPTION:Apéro Réseau Business - Tartiflette\, charcuterie et vin blanc de Savoie\n			\n			\n				\n				\n				\n				\n			\n				\n				\n				\n				\n				\n				\n				Inscription\n			\n			\n				\n				\n				\n				\n			\n				\n				\n			\n				\n				\n				\n				\n				\n				\n				\n				\n				\n				\n				\n				\n				\n				\n				\n				\n				\n				\n					\n					\n						\n						L’Apéro Réseau Business revient pour débuter l’année 2026 en beauté ! Un rendez-vous convivial et professionnel pour rencontrer d’autres entrepreneurs\, échanger vos projets et élargir votre réseau dans une ambiance chaleureuse et gourmande. \n					\n				\n			\n			\n				\n				\n				\n				\n				\n				\n				\n				\n				\n				\n					b\n					\n						\n						Programme de la soirée : \n\n\nJeu des connexions : créez des liens avec d’autres entrepreneurs de façon ludique \n\n\nPitch BIM : présentez votre activité en 1 minute chrono \n\n\nAfterwork gourmand autour d'une tartiflette & charcuterie \n\n\nAccompagné de son vin blanc de Savoie \n\n\nRencontres professionnelles authentiques : échangez\, collaborez et développez votre réseau \n\n\n					\n				\n			\n			\n				\n				\n				\n				\n				\n				\n				\n				\n				\n				\n					\n					\n						\n						L'Apéro Réseau Business est au tarif de 30 euros et comprend : \n\nAccès à l’Apéro Réseau Business du 8 janvier 2026\n\nDégustation de tartiflette\, charcuterie et vin blanc de Savoie \n\n\nOpportunité de rencontrer et échanger avec d’autres professionnels \n\n\nAmbiance conviviale et espace dédié au networking \n\n\n					\n				\n			\n			\n				\n				\n				\n				\n			\n				\n				\n				\n				\n				\n				\n				Inscription
URL:https://padenformation.fr/evenement/apero-reseau-business-tartiflette-charcuterie-et-vin-blanc-de-savoie/
LOCATION:Sainte-Foy les Lyon\, France
CATEGORIES:Apéro Business
ATTACH;FMTTYPE=image/png:https://padenformation.fr/wp-content/uploads/2025/12/Apero-Reseau-Business-a-Sainte-Foy-les-Lyon.png
END:VEVENT
END:VCALENDAR